Package: fCI Version: 1.37.0 Command: /home/biocbuild/bbs-3.21-bioc/R/bin/R CMD build --keep-empty-dirs --no-resave-data fCI StartedAt: 2025-02-12 17:10:28 -0500 (Wed, 12 Feb 2025) EndedAt: 2025-02-12 17:11:14 -0500 (Wed, 12 Feb 2025) EllapsedTime: 46.1 seconds RetCode: 0 Status: OK PackageFile: fCI_1.37.0.tar.gz PackageFileSize: 1.319 MiB