Package: fCI Version: 1.37.0 Command: /home/biocbuild/bbs-3.21-bioc/R/bin/R CMD check --install=check:fCI.install-out.txt --library=/home/biocbuild/bbs-3.21-bioc/R/site-library --timings fCI_1.37.0.tar.gz StartedAt: 2025-02-09 22:16:59 -0500 (Sun, 09 Feb 2025) EndedAt: 2025-02-09 22:17:46 -0500 (Sun, 09 Feb 2025) EllapsedTime: 47.1 seconds RetCode: 0 Status: OK CheckDir: fCI.Rcheck Warnings: 0