Package: fCI Version: 1.37.0 Command: /home/biocbuild/bbs-3.21-bioc/R/bin/R CMD INSTALL fCI StartedAt: 2025-02-09 15:07:20 -0500 (Sun, 09 Feb 2025) EndedAt: 2025-02-09 15:08:09 -0500 (Sun, 09 Feb 2025) EllapsedTime: 49.3 seconds RetCode: 0 Status: OK