Package: fabia Version: 2.53.0 Command: /Library/Frameworks/R.framework/Resources/bin/R CMD build --keep-empty-dirs --no-resave-data fabia StartedAt: 2025-02-09 16:18:15 -0500 (Sun, 09 Feb 2025) EndedAt: 2025-02-09 16:18:24 -0500 (Sun, 09 Feb 2025) EllapsedTime: 9.1 seconds RetCode: 0 Status: OK PackageFile: fabia_2.53.0.tar.gz PackageFileSize: 800.9 KiB