Package: fabia Version: 2.53.0 Command: /home/biocbuild/R/R/bin/R CMD build --keep-empty-dirs --no-resave-data fabia StartedAt: 2025-01-28 22:51:10 -0000 (Tue, 28 Jan 2025) EndedAt: 2025-01-28 22:51:34 -0000 (Tue, 28 Jan 2025) EllapsedTime: 24.0 seconds RetCode: 0 Status: OK PackageFile: fabia_2.53.0.tar.gz PackageFileSize: 782.1 KiB