Package: fabia Version: 2.53.0 Command: /home/biocbuild/R/R/bin/R CMD check --install=check:fabia.install-out.txt --library=/home/biocbuild/R/R/site-library --no-vignettes --timings fabia_2.53.0.tar.gz StartedAt: 2025-01-28 10:32:41 -0000 (Tue, 28 Jan 2025) EndedAt: 2025-01-28 10:33:36 -0000 (Tue, 28 Jan 2025) EllapsedTime: 55.1 seconds RetCode: 0 Status: WARNINGS CheckDir: fabia.Rcheck Warnings: 2