Package: fabia Version: 2.53.0 Command: /Library/Frameworks/R.framework/Resources/bin/R CMD build --keep-empty-dirs --no-resave-data fabia StartedAt: 2025-02-12 16:42:07 -0500 (Wed, 12 Feb 2025) EndedAt: 2025-02-12 16:42:31 -0500 (Wed, 12 Feb 2025) EllapsedTime: 24.1 seconds RetCode: 0 Status: OK PackageFile: fabia_2.53.0.tar.gz PackageFileSize: 801.2 KiB