Package: fabia Version: 2.53.0 Command: /Library/Frameworks/R.framework/Resources/bin/R CMD check --install=check:fabia.install-out.txt --library=/Library/Frameworks/R.framework/Resources/library --no-vignettes --timings fabia_2.53.0.tar.gz StartedAt: 2025-02-09 20:40:18 -0500 (Sun, 09 Feb 2025) EndedAt: 2025-02-09 20:41:16 -0500 (Sun, 09 Feb 2025) EllapsedTime: 57.9 seconds RetCode: 0 Status: WARNINGS CheckDir: fabia.Rcheck Warnings: 2