Package: fabia Version: 2.53.0 Command: /Library/Frameworks/R.framework/Resources/bin/R CMD INSTALL fabia StartedAt: 2025-02-09 15:05:05 -0500 (Sun, 09 Feb 2025) EndedAt: 2025-02-09 15:05:40 -0500 (Sun, 09 Feb 2025) EllapsedTime: 35.1 seconds RetCode: 0 Status: OK