Package: fabia Version: 2.53.0 Command: /home/biocbuild/bbs-3.21-bioc/R/bin/R CMD build --keep-empty-dirs --no-resave-data fabia StartedAt: 2025-02-09 17:13:12 -0500 (Sun, 09 Feb 2025) EndedAt: 2025-02-09 17:13:31 -0500 (Sun, 09 Feb 2025) EllapsedTime: 19.2 seconds RetCode: 0 Status: OK PackageFile: fabia_2.53.0.tar.gz PackageFileSize: 800.9 KiB