Package: fabia Version: 2.53.0 Command: /home/biocbuild/bbs-3.21-bioc/R/bin/R CMD check --install=check:fabia.install-out.txt --library=/home/biocbuild/bbs-3.21-bioc/R/site-library --timings fabia_2.53.0.tar.gz StartedAt: 2025-02-12 22:14:44 -0500 (Wed, 12 Feb 2025) EndedAt: 2025-02-12 22:15:29 -0500 (Wed, 12 Feb 2025) EllapsedTime: 45.1 seconds RetCode: 0 Status: WARNINGS CheckDir: fabia.Rcheck Warnings: 2