Package: fabia Version: 2.53.0 Command: /home/biocbuild/bbs-3.21-bioc/R/bin/R CMD INSTALL fabia StartedAt: 2025-02-09 15:12:19 -0500 (Sun, 09 Feb 2025) EndedAt: 2025-02-09 15:12:30 -0500 (Sun, 09 Feb 2025) EllapsedTime: 11.6 seconds RetCode: 0 Status: OK