Package: factDesign Version: 1.83.0 Command: /Library/Frameworks/R.framework/Resources/bin/R CMD INSTALL factDesign StartedAt: 2025-02-03 15:37:38 -0500 (Mon, 03 Feb 2025) EndedAt: 2025-02-03 15:37:45 -0500 (Mon, 03 Feb 2025) EllapsedTime: 7.2 seconds RetCode: 0 Status: OK