Package: factDesign Version: 1.83.0 Command: /home/biocbuild/R/R/bin/R CMD build --keep-empty-dirs --no-resave-data factDesign StartedAt: 2025-01-28 22:51:18 -0000 (Tue, 28 Jan 2025) EndedAt: 2025-01-28 22:51:30 -0000 (Tue, 28 Jan 2025) EllapsedTime: 12.0 seconds RetCode: 0 Status: OK PackageFile: factDesign_1.83.0.tar.gz PackageFileSize: 218.9 KiB