Package: factDesign Version: 1.83.0 Command: /home/biocbuild/R/R/bin/R CMD INSTALL factDesign StartedAt: 2025-01-29 19:33:32 -0000 (Wed, 29 Jan 2025) EndedAt: 2025-01-29 19:34:02 -0000 (Wed, 29 Jan 2025) EllapsedTime: 29.2 seconds RetCode: 0 Status: OK