Package: factDesign Version: 1.83.0 Command: /Library/Frameworks/R.framework/Resources/bin/R CMD build --keep-empty-dirs --no-resave-data factDesign StartedAt: 2025-02-03 16:45:39 -0500 (Mon, 03 Feb 2025) EndedAt: 2025-02-03 16:45:52 -0500 (Mon, 03 Feb 2025) EllapsedTime: 12.7 seconds RetCode: 0 Status: OK PackageFile: factDesign_1.83.0.tar.gz PackageFileSize: 217.1 KiB