Package: factDesign Version: 1.83.0 Command: /Library/Frameworks/R.framework/Resources/bin/R CMD check --install=check:factDesign.install-out.txt --library=/Library/Frameworks/R.framework/Resources/library --no-vignettes --timings factDesign_1.83.0.tar.gz StartedAt: 2025-02-03 20:30:12 -0500 (Mon, 03 Feb 2025) EndedAt: 2025-02-03 20:30:48 -0500 (Mon, 03 Feb 2025) EllapsedTime: 36.0 seconds RetCode: 0 Status: OK CheckDir: factDesign.Rcheck Warnings: 0