Package: factDesign Version: 1.83.0 Command: /Library/Frameworks/R.framework/Resources/bin/R CMD INSTALL factDesign StartedAt: 2025-02-03 15:11:16 -0500 (Mon, 03 Feb 2025) EndedAt: 2025-02-03 15:11:47 -0500 (Mon, 03 Feb 2025) EllapsedTime: 30.9 seconds RetCode: 0 Status: OK