Package: factDesign Version: 1.83.0 Command: rm -rf factDesign.buildbin-libdir && mkdir factDesign.buildbin-libdir && E:\biocbuild\bbs-3.21-bioc\R\bin\R.exe CMD INSTALL --build --library=factDesign.buildbin-libdir factDesign_1.83.0.tar.gz StartedAt: 2025-02-04 07:57:45 -0500 (Tue, 04 Feb 2025) EndedAt: 2025-02-04 07:58:00 -0500 (Tue, 04 Feb 2025) EllapsedTime: 14.1 seconds RetCode: 0 Status: OK PackageFile: factDesign_1.83.0.zip PackageFileSize: 235.7 KiB