Package: factDesign Version: 1.83.0 Command: chmod a+r factDesign -R && E:\biocbuild\bbs-3.21-bioc\R\bin\R.exe CMD build --keep-empty-dirs --no-resave-data factDesign StartedAt: 2025-02-09 18:40:07 -0500 (Sun, 09 Feb 2025) EndedAt: 2025-02-09 18:40:25 -0500 (Sun, 09 Feb 2025) EllapsedTime: 17.6 seconds RetCode: 0 Status: OK PackageFile: factDesign_1.83.0.tar.gz PackageFileSize: 218 KiB