Package: factDesign Version: 1.83.0 Command: E:\biocbuild\bbs-3.21-bioc\R\bin\R.exe CMD INSTALL factDesign StartedAt: 2025-02-09 15:24:47 -0500 (Sun, 09 Feb 2025) EndedAt: 2025-02-09 15:24:57 -0500 (Sun, 09 Feb 2025) EllapsedTime: 9.5 seconds RetCode: 0 Status: OK