Package: fastLiquidAssociation Version: 1.43.0 Command: /Library/Frameworks/R.framework/Resources/bin/R CMD check --install=check:fastLiquidAssociation.install-out.txt --library=/Library/Frameworks/R.framework/Resources/library --no-vignettes --timings fastLiquidAssociation_1.43.0.tar.gz StartedAt: 2025-02-03 19:49:33 -0500 (Mon, 03 Feb 2025) EndedAt: 2025-02-03 19:50:36 -0500 (Mon, 03 Feb 2025) EllapsedTime: 62.8 seconds RetCode: 0 Status: WARNINGS CheckDir: fastLiquidAssociation.Rcheck Warnings: 1