Package: fastLiquidAssociation Version: 1.43.0 Command: /home/biocbuild/R/R/bin/R CMD INSTALL fastLiquidAssociation StartedAt: 2025-01-29 20:15:34 -0000 (Wed, 29 Jan 2025) EndedAt: 2025-01-29 20:16:02 -0000 (Wed, 29 Jan 2025) EllapsedTime: 27.6 seconds RetCode: 0 Status: OK