Package: fastLiquidAssociation Version: 1.43.0 Command: rm -rf fastLiquidAssociation.buildbin-libdir && mkdir fastLiquidAssociation.buildbin-libdir && /Users/biocbuild/BBS/utils/build-universal.sh fastLiquidAssociation_1.43.0.tar.gz /Library/Frameworks/R.framework/Resources/bin/R fastLiquidAssociation.buildbin-libdir StartedAt: 2025-02-10 00:53:16 -0500 (Mon, 10 Feb 2025) EndedAt: 2025-02-10 00:53:46 -0500 (Mon, 10 Feb 2025) EllapsedTime: 30.2 seconds RetCode: 0 Status: OK PackageFile: fastLiquidAssociation_1.43.0.tgz PackageFileSize: 660.2 KiB