Package: fastLiquidAssociation Version: 1.43.0 Command: /Library/Frameworks/R.framework/Resources/bin/R CMD INSTALL fastLiquidAssociation StartedAt: 2025-02-03 15:35:53 -0500 (Mon, 03 Feb 2025) EndedAt: 2025-02-03 15:36:21 -0500 (Mon, 03 Feb 2025) EllapsedTime: 27.7 seconds RetCode: 0 Status: OK