Package: fastLiquidAssociation Version: 1.43.0 Command: /home/biocbuild/bbs-3.21-bioc/R/bin/R CMD build --keep-empty-dirs --no-resave-data fastLiquidAssociation StartedAt: 2025-02-09 17:13:31 -0500 (Sun, 09 Feb 2025) EndedAt: 2025-02-09 17:14:50 -0500 (Sun, 09 Feb 2025) EllapsedTime: 79.2 seconds RetCode: 0 Status: OK PackageFile: fastLiquidAssociation_1.43.0.tar.gz PackageFileSize: 750.4 KiB