Package: fastLiquidAssociation Version: 1.43.0 Command: /home/biocbuild/bbs-3.21-bioc/R/bin/R CMD check --install=check:fastLiquidAssociation.install-out.txt --library=/home/biocbuild/bbs-3.21-bioc/R/site-library --timings fastLiquidAssociation_1.43.0.tar.gz StartedAt: 2025-02-09 22:15:52 -0500 (Sun, 09 Feb 2025) EndedAt: 2025-02-09 22:19:37 -0500 (Sun, 09 Feb 2025) EllapsedTime: 225.4 seconds RetCode: 0 Status: WARNINGS CheckDir: fastLiquidAssociation.Rcheck Warnings: 1