Package: fastLiquidAssociation Version: 1.43.0 Command: E:\biocbuild\bbs-3.21-bioc\R\bin\R.exe CMD check --no-multiarch --install=check:fastLiquidAssociation.install-out.txt --library=E:\biocbuild\bbs-3.21-bioc\R\library --no-vignettes --timings fastLiquidAssociation_1.43.0.tar.gz StartedAt: 2025-02-10 01:02:25 -0500 (Mon, 10 Feb 2025) EndedAt: 2025-02-10 01:05:51 -0500 (Mon, 10 Feb 2025) EllapsedTime: 205.8 seconds RetCode: 0 Status: WARNINGS CheckDir: fastLiquidAssociation.Rcheck Warnings: 1