Package: fastLiquidAssociation Version: 1.43.0 Command: E:\biocbuild\bbs-3.21-bioc\R\bin\R.exe CMD INSTALL fastLiquidAssociation StartedAt: 2025-02-09 15:55:29 -0500 (Sun, 09 Feb 2025) EndedAt: 2025-02-09 15:56:57 -0500 (Sun, 09 Feb 2025) EllapsedTime: 88.7 seconds RetCode: 0 Status: OK