Package: fastseg Version: 1.53.3 Maintainer: Alexander Blume MaintainerEmail: alex.gos90 at gmail.com git_url: https://git.bioconductor.org/packages/fastseg git_branch: devel git_last_commit: 44f2c84 git_last_commit_date: 2025-02-06 07:44:25 -0500 (Thu, 06 Feb 2025)