Package: fastseg Version: 1.53.3 Command: rm -rf fastseg.buildbin-libdir && mkdir fastseg.buildbin-libdir && /Users/biocbuild/BBS/utils/build-universal.sh fastseg_1.53.3.tar.gz /Library/Frameworks/R.framework/Resources/bin/R fastseg.buildbin-libdir StartedAt: 2025-02-09 22:14:14 -0500 (Sun, 09 Feb 2025) EndedAt: 2025-02-09 22:14:20 -0500 (Sun, 09 Feb 2025) EllapsedTime: 6.2 seconds RetCode: 0 Status: OK PackageFile: fastseg_1.53.3.tgz PackageFileSize: 764.8 KiB