Package: fastseg Version: 1.53.3 Command: rm -rf fastseg.buildbin-libdir && mkdir fastseg.buildbin-libdir && /Users/biocbuild/BBS/utils/build-universal.sh fastseg_1.53.3.tar.gz /Library/Frameworks/R.framework/Resources/bin/R fastseg.buildbin-libdir StartedAt: 2025-02-10 00:53:19 -0500 (Mon, 10 Feb 2025) EndedAt: 2025-02-10 00:53:40 -0500 (Mon, 10 Feb 2025) EllapsedTime: 21.0 seconds RetCode: 0 Status: OK PackageFile: fastseg_1.53.3.tgz PackageFileSize: 765.1 KiB