Package: fastseg Version: 1.53.3 Command: /Library/Frameworks/R.framework/Resources/bin/R CMD INSTALL fastseg StartedAt: 2025-02-09 15:12:27 -0500 (Sun, 09 Feb 2025) EndedAt: 2025-02-09 15:12:44 -0500 (Sun, 09 Feb 2025) EllapsedTime: 17.5 seconds RetCode: 0 Status: OK