Package: fastseg Version: 1.53.3 Command: /home/biocbuild/bbs-3.21-bioc/R/bin/R CMD build --keep-empty-dirs --no-resave-data fastseg StartedAt: 2025-02-09 17:13:36 -0500 (Sun, 09 Feb 2025) EndedAt: 2025-02-09 17:14:03 -0500 (Sun, 09 Feb 2025) EllapsedTime: 27.0 seconds RetCode: 0 Status: OK PackageFile: fastseg_1.53.3.tar.gz PackageFileSize: 718.8 KiB