Package: fastseg Version: 1.53.3 Command: chmod a+r fastseg -R && E:\biocbuild\bbs-3.21-bioc\R\bin\R.exe CMD build --keep-empty-dirs --no-resave-data fastseg StartedAt: 2025-02-09 18:40:46 -0500 (Sun, 09 Feb 2025) EndedAt: 2025-02-09 18:41:49 -0500 (Sun, 09 Feb 2025) EllapsedTime: 63.6 seconds RetCode: 0 Status: OK PackageFile: fastseg_1.53.3.tar.gz PackageFileSize: 475.9 KiB