Package: fastseg Version: 1.53.3 Command: E:\biocbuild\bbs-3.21-bioc\R\bin\R.exe CMD check --no-multiarch --install=check:fastseg.install-out.txt --library=E:\biocbuild\bbs-3.21-bioc\R\library --no-vignettes --timings fastseg_1.53.3.tar.gz StartedAt: 2025-02-10 01:03:00 -0500 (Mon, 10 Feb 2025) EndedAt: 2025-02-10 01:04:55 -0500 (Mon, 10 Feb 2025) EllapsedTime: 114.6 seconds RetCode: 0 Status: OK CheckDir: fastseg.Rcheck Warnings: 0