Package: fastseg Version: 1.53.3 Command: E:\biocbuild\bbs-3.21-bioc\R\bin\R.exe CMD INSTALL fastseg StartedAt: 2025-02-09 15:52:19 -0500 (Sun, 09 Feb 2025) EndedAt: 2025-02-09 15:53:30 -0500 (Sun, 09 Feb 2025) EllapsedTime: 71.3 seconds RetCode: 0 Status: OK