Package: fcScan Version: 1.21.0 Command: /Library/Frameworks/R.framework/Resources/bin/R CMD build --keep-empty-dirs --no-resave-data fcScan StartedAt: 2025-02-09 16:19:08 -0500 (Sun, 09 Feb 2025) EndedAt: 2025-02-09 16:19:28 -0500 (Sun, 09 Feb 2025) EllapsedTime: 20.2 seconds RetCode: 0 Status: OK PackageFile: fcScan_1.21.0.tar.gz PackageFileSize: 241.9 KiB