Package: fcScan Version: 1.21.0 Command: rm -rf fcScan.buildbin-libdir && mkdir fcScan.buildbin-libdir && /Users/biocbuild/BBS/utils/build-universal.sh fcScan_1.21.0.tar.gz /Library/Frameworks/R.framework/Resources/bin/R fcScan.buildbin-libdir StartedAt: 2025-02-10 00:53:21 -0500 (Mon, 10 Feb 2025) EndedAt: 2025-02-10 00:54:15 -0500 (Mon, 10 Feb 2025) EllapsedTime: 53.5 seconds RetCode: 0 Status: OK PackageFile: fcScan_1.21.0.tgz PackageFileSize: 271.9 KiB