Package: fcScan Version: 1.21.0 Command: /Library/Frameworks/R.framework/Resources/bin/R CMD build --keep-empty-dirs --no-resave-data fcScan StartedAt: 2025-02-09 16:44:38 -0500 (Sun, 09 Feb 2025) EndedAt: 2025-02-09 16:45:53 -0500 (Sun, 09 Feb 2025) EllapsedTime: 74.8 seconds RetCode: 0 Status: OK PackageFile: fcScan_1.21.0.tar.gz PackageFileSize: 241.7 KiB