Package: fcScan Version: 1.21.0 Command: /Library/Frameworks/R.framework/Resources/bin/R CMD INSTALL fcScan StartedAt: 2025-02-09 15:21:32 -0500 (Sun, 09 Feb 2025) EndedAt: 2025-02-09 15:22:26 -0500 (Sun, 09 Feb 2025) EllapsedTime: 53.3 seconds RetCode: 0 Status: OK