Package: fcScan Version: 1.21.0 Command: /home/biocbuild/bbs-3.21-bioc/R/bin/R CMD check --install=check:fcScan.install-out.txt --library=/home/biocbuild/bbs-3.21-bioc/R/site-library --timings fcScan_1.21.0.tar.gz StartedAt: 2025-02-03 22:25:41 -0500 (Mon, 03 Feb 2025) EndedAt: 2025-02-03 22:30:41 -0500 (Mon, 03 Feb 2025) EllapsedTime: 299.5 seconds RetCode: 0 Status: OK CheckDir: fcScan.Rcheck Warnings: 0