Package: fcScan Version: 1.21.0 Command: /home/biocbuild/bbs-3.21-bioc/R/bin/R CMD INSTALL fcScan StartedAt: 2025-02-03 15:48:06 -0500 (Mon, 03 Feb 2025) EndedAt: 2025-02-03 15:48:45 -0500 (Mon, 03 Feb 2025) EllapsedTime: 39.2 seconds RetCode: 0 Status: OK