Package: fcScan Version: 1.21.0 Command: rm -rf fcScan.buildbin-libdir && mkdir fcScan.buildbin-libdir && E:\biocbuild\bbs-3.21-bioc\R\bin\R.exe CMD INSTALL --build --library=fcScan.buildbin-libdir fcScan_1.21.0.tar.gz StartedAt: 2025-02-10 07:44:38 -0500 (Mon, 10 Feb 2025) EndedAt: 2025-02-10 07:45:18 -0500 (Mon, 10 Feb 2025) EllapsedTime: 40.4 seconds RetCode: 0 Status: OK PackageFile: fcScan_1.21.0.zip PackageFileSize: 277.8 KiB