Package: fcScan Version: 1.21.0 Command: chmod a+r fcScan -R && E:\biocbuild\bbs-3.21-bioc\R\bin\R.exe CMD build --keep-empty-dirs --no-resave-data fcScan StartedAt: 2025-02-03 18:53:12 -0500 (Mon, 03 Feb 2025) EndedAt: 2025-02-03 18:54:47 -0500 (Mon, 03 Feb 2025) EllapsedTime: 95.4 seconds RetCode: 0 Status: OK PackageFile: fcScan_1.21.0.tar.gz PackageFileSize: 241.9 KiB