Package: fcScan Version: 1.21.0 Command: E:\biocbuild\bbs-3.21-bioc\R\bin\R.exe CMD check --no-multiarch --install=check:fcScan.install-out.txt --library=E:\biocbuild\bbs-3.21-bioc\R\library --no-vignettes --timings fcScan_1.21.0.tar.gz StartedAt: 2025-02-04 01:31:57 -0500 (Tue, 04 Feb 2025) EndedAt: 2025-02-04 01:48:02 -0500 (Tue, 04 Feb 2025) EllapsedTime: 964.7 seconds RetCode: 0 Status: OK CheckDir: fcScan.Rcheck Warnings: 0