Package: fcScan Version: 1.21.0 Command: E:\biocbuild\bbs-3.21-bioc\R\bin\R.exe CMD INSTALL fcScan StartedAt: 2025-02-09 16:41:13 -0500 (Sun, 09 Feb 2025) EndedAt: 2025-02-09 16:41:57 -0500 (Sun, 09 Feb 2025) EllapsedTime: 44.8 seconds RetCode: 0 Status: OK