Package: fdrame Version: 1.79.0 Command: /Library/Frameworks/R.framework/Resources/bin/R CMD build --keep-empty-dirs --no-resave-data fdrame StartedAt: 2025-02-09 16:19:10 -0500 (Sun, 09 Feb 2025) EndedAt: 2025-02-09 16:19:14 -0500 (Sun, 09 Feb 2025) EllapsedTime: 4.0 seconds RetCode: 0 Status: OK PackageFile: fdrame_1.79.0.tar.gz PackageFileSize: 972.5 KiB