Package: fdrame Version: 1.79.0 Command: /Library/Frameworks/R.framework/Resources/bin/R CMD check --install=check:fdrame.install-out.txt --library=/Library/Frameworks/R.framework/Resources/library --no-vignettes --timings fdrame_1.79.0.tar.gz StartedAt: 2025-02-12 19:16:30 -0500 (Wed, 12 Feb 2025) EndedAt: 2025-02-12 19:16:46 -0500 (Wed, 12 Feb 2025) EllapsedTime: 16.2 seconds RetCode: 0 Status: OK CheckDir: fdrame.Rcheck Warnings: 0