Package: fdrame Version: 1.79.0 Command: /home/biocbuild/R/R/bin/R CMD INSTALL fdrame StartedAt: 2025-01-29 19:29:50 -0000 (Wed, 29 Jan 2025) EndedAt: 2025-01-29 19:30:07 -0000 (Wed, 29 Jan 2025) EllapsedTime: 17.1 seconds RetCode: 0 Status: OK